{
 "currentVersion": 10.91,
 "serviceDescription": "GatewayRoyalty/Plat_Map2",
 "name": "GatewayRoyalty/Plat_Map2",
 "description": "",
 "extent": {
  "xmin": 2045835.0076155283,
  "ymin": 564156.4390012322,
  "xmax": 2518273.2553942944,
  "ymax": 1091602.7480572087,
  "spatialReference": {
   "wkid": 102723,
   "latestWkid": 3735
  }
 },
 "initialExtent": {
  "xmin": 2045835.0076155283,
  "ymin": 564156.4390012322,
  "xmax": 2518273.2553942944,
  "ymax": 1091602.7480572087,
  "spatialReference": {
   "wkid": 102723,
   "latestWkid": 3735
  }
 },
 "fullExtent": {
  "xmin": 2045835.0076155283,
  "ymin": 564156.4390012322,
  "xmax": 2518273.2553942944,
  "ymax": 1091602.7480572087,
  "spatialReference": {
   "wkid": 102723,
   "latestWkid": 3735
  }
 },
 "hasMultidimensions": false,
 "pixelSizeX": 13.889115030979452,
 "pixelSizeY": 13.890401060148967,
 "datasetFormat": "FGDBR",
 "uncompressedSize": 5166470320,
 "blockWidth": 128,
 "blockHeight": 128,
 "compressionType": "LZ77",
 "bandNames": [
  "Band_1",
  "Band_2",
  "Band_3",
  "Band_4"
 ],
 "allowCopy": true,
 "allowAnalysis": true,
 "bandCount": 4,
 "pixelType": "U8",
 "minPixelSize": 0,
 "maxPixelSize": 0,
 "copyrightText": "",
 "serviceDataType": "esriImageServiceDataTypeGeneric",
 "serviceSourceType": "esriImageServiceSourceTypeDataset",
 "minValues": [
  0,
  0,
  0,
  0
 ],
 "maxValues": [
  255,
  255,
  255,
  255
 ],
 "meanValues": [
  222.09429397527714,
  218.53118085858117,
  213.2021411339952,
  252.20071901176186
 ],
 "stdvValues": [
  73.40689191768922,
  78.01401792008163,
  82.53934456205421,
  21.89886086092462
 ],
 "objectIdField": "",
 "fields": [],
 "capabilities": "Image,Metadata,Mensuration",
 "defaultMosaicMethod": "Center",
 "allowedMosaicMethods": "",
 "sortField": "",
 "sortValue": null,
 "sortAscending": true,
 "mosaicOperator": "First",
 "defaultCompressionQuality": 75,
 "defaultResamplingMethod": "Bilinear",
 "maxImageHeight": 4100,
 "maxImageWidth": 15000,
 "singleFusedMapCache": true,
 "tileInfo": {
  "rows": 256,
  "cols": 256,
  "dpi": 96,
  "format": "PNG",
  "compressionQuality": 0,
  "origin": {
   "x": -119670700,
   "y": 1.4766550000000003E8
  },
  "spatialReference": {
   "wkid": 102723,
   "latestWkid": 3735
  },
  "lods": [
   {
    "level": 0,
    "resolution": 1736.111111111111,
    "scale": 2000000
   },
   {
    "level": 1,
    "resolution": 868.0555555555555,
    "scale": 1000000
   },
   {
    "level": 2,
    "resolution": 434.02777777777777,
    "scale": 500000
   },
   {
    "level": 3,
    "resolution": 217.01388888888889,
    "scale": 250000
   },
   {
    "level": 4,
    "resolution": 108.50694444444444,
    "scale": 125000
   },
   {
    "level": 5,
    "resolution": 54.25347222222222,
    "scale": 62500
   },
   {
    "level": 6,
    "resolution": 27.12673611111111,
    "scale": 31250
   },
   {
    "level": 7,
    "resolution": 13.563368055555555,
    "scale": 15625
   },
   {
    "level": 8,
    "resolution": 6.781684027777778,
    "scale": 7812.5
   },
   {
    "level": 9,
    "resolution": 3.390842013888889,
    "scale": 3906.25
   },
   {
    "level": 10,
    "resolution": 1.6954210069444444,
    "scale": 1953.125
   },
   {
    "level": 11,
    "resolution": 0.8477105034722222,
    "scale": 976.5625
   }
  ]
 },
 "storageInfo": {
  "storageFormat": "esriMapCacheStorageModeCompactV2",
  "packetSize": 128
 },
 "cacheType": "Map",
 "allowRasterFunction": true,
 "rasterFunctionInfos": [
  {
   "name": "None",
   "description": "",
   "help": ""
  }
 ],
 "rasterTypeInfos": [
  {
   "name": "Raster Dataset",
   "description": "Supports all ArcGIS Raster Datasets",
   "help": ""
  }
 ],
 "mensurationCapabilities": "Basic",
 "hasHistograms": true,
 "hasColormap": false,
 "hasRasterAttributeTable": false,
 "minScale": 0,
 "maxScale": 0,
 "minLOD": 0,
 "maxLOD": 11,
 "exportTilesAllowed": false,
 "supportsStatistics": false,
 "supportsAdvancedQueries": false,
 "editFieldsInfo": null,
 "ownershipBasedAccessControlForRasters": null,
 "allowComputeTiePoints": false,
 "useStandardizedQueries": true,
 "advancedQueryCapabilities": {
  "useStandardizedQueries": true,
  "supportsStatistics": false,
  "supportsOrderBy": false,
  "supportsDistinct": false,
  "supportsPagination": false
 },
 "spatialReference": {
  "wkid": 102723,
  "latestWkid": 3735
 }
}
