{
 "currentVersion": 10.91,
 "serviceDescription": "NCTCOG_FY18/500_Year_WSEL",
 "name": "NCTCOG_FY18/500_Year_WSEL",
 "description": "",
 "extent": {
  "xmin": 2233184.055730477,
  "ymin": 6952144.241103247,
  "xmax": 2261900.055730477,
  "ymax": 6977134.241103247,
  "spatialReference": {
   "wkid": 102738,
   "latestWkid": 2276
  }
 },
 "initialExtent": {
  "xmin": 2233184.055730477,
  "ymin": 6952144.241103247,
  "xmax": 2261900.055730477,
  "ymax": 6977134.241103247,
  "spatialReference": {
   "wkid": 102738,
   "latestWkid": 2276
  }
 },
 "fullExtent": {
  "xmin": 2233184.055730477,
  "ymin": 6952144.241103247,
  "xmax": 2261900.055730477,
  "ymax": 6977134.241103247,
  "spatialReference": {
   "wkid": 102738,
   "latestWkid": 2276
  }
 },
 "hasMultidimensions": false,
 "pixelSizeX": 3,
 "pixelSizeY": 3,
 "datasetFormat": "SDR",
 "uncompressedSize": 318939040,
 "blockWidth": 128,
 "blockHeight": 128,
 "compressionType": "LZ77",
 "bandNames": [
  "Band_1"
 ],
 "allowCopy": true,
 "allowAnalysis": true,
 "bandCount": 1,
 "pixelType": "F32",
 "minPixelSize": 0,
 "maxPixelSize": 0,
 "copyrightText": "",
 "serviceDataType": "esriImageServiceDataTypeGeneric",
 "serviceSourceType": "esriImageServiceSourceTypeDataset",
 "minValues": [
  783.7000122070312
 ],
 "maxValues": [
  1093.4000244140625
 ],
 "meanValues": [
  895.22064724828
 ],
 "stdvValues": [
  78.27021785831923
 ],
 "objectIdField": "",
 "fields": [],
 "capabilities": "Image,Metadata,Mensuration",
 "defaultMosaicMethod": "Center",
 "allowedMosaicMethods": "",
 "sortField": "",
 "sortValue": null,
 "sortAscending": true,
 "mosaicOperator": "First",
 "defaultCompressionQuality": 75,
 "defaultResamplingMethod": "Bilinear",
 "maxImageHeight": 4100,
 "maxImageWidth": 15000,
 "allowRasterFunction": true,
 "rasterFunctionInfos": [
  {
   "name": "None",
   "description": "",
   "help": ""
  }
 ],
 "rasterTypeInfos": [
  {
   "name": "Raster Dataset",
   "description": "Supports all ArcGIS Raster Datasets",
   "help": ""
  }
 ],
 "mensurationCapabilities": "Basic",
 "hasHistograms": true,
 "hasColormap": false,
 "hasRasterAttributeTable": false,
 "minScale": 0,
 "maxScale": 0,
 "exportTilesAllowed": false,
 "supportsStatistics": false,
 "supportsAdvancedQueries": false,
 "editFieldsInfo": null,
 "ownershipBasedAccessControlForRasters": null,
 "allowComputeTiePoints": false,
 "useStandardizedQueries": true,
 "advancedQueryCapabilities": {
  "useStandardizedQueries": true,
  "supportsStatistics": false,
  "supportsOrderBy": false,
  "supportsDistinct": false,
  "supportsPagination": false
 },
 "spatialReference": {
  "wkid": 102738,
  "latestWkid": 2276
 }
}
