{
 "currentVersion": 10.91,
 "serviceDescription": "RAPC/RAPC_AVO_42262_GISDBO_Terrain_Difference",
 "name": "RAPC/RAPC_AVO_42262_GISDBO_Terrain_Difference",
 "description": "",
 "extent": {
  "xmin": 3238871.042305172,
  "ymin": 229626.0678396863,
  "xmax": 3364136.375672093,
  "ymax": 362183.49846974213,
  "spatialReference": {
   "wkid": 102681,
   "latestWkid": 3451
  }
 },
 "initialExtent": {
  "xmin": 3238871.042305172,
  "ymin": 229626.0678396863,
  "xmax": 3364136.375672093,
  "ymax": 362183.49846974213,
  "spatialReference": {
   "wkid": 102681,
   "latestWkid": 3451
  }
 },
 "fullExtent": {
  "xmin": 3238871.042305172,
  "ymin": 229626.0678396863,
  "xmax": 3364136.375672093,
  "ymax": 362183.49846974213,
  "spatialReference": {
   "wkid": 102681,
   "latestWkid": 3451
  }
 },
 "hasMultidimensions": false,
 "pixelSizeX": 9.921220764052048,
 "pixelSizeY": 9.921220764168538,
 "datasetFormat": "SDR",
 "uncompressedSize": 674783944,
 "blockWidth": 128,
 "blockHeight": 128,
 "compressionType": "NONE",
 "bandNames": [
  "Band_1"
 ],
 "allowCopy": true,
 "allowAnalysis": true,
 "bandCount": 1,
 "pixelType": "F32",
 "minPixelSize": 0,
 "maxPixelSize": 0,
 "copyrightText": "",
 "serviceDataType": "esriImageServiceDataTypeGeneric",
 "serviceSourceType": "esriImageServiceSourceTypeDataset",
 "minValues": [
  -43.07347869873047
 ],
 "maxValues": [
  34.143348693847656
 ],
 "meanValues": [
  0.29039985802779067
 ],
 "stdvValues": [
  1.1989404641952224
 ],
 "objectIdField": "",
 "fields": [],
 "capabilities": "Image,Metadata,Mensuration",
 "defaultMosaicMethod": "Center",
 "allowedMosaicMethods": "",
 "sortField": "",
 "sortValue": null,
 "sortAscending": true,
 "mosaicOperator": "First",
 "defaultCompressionQuality": 75,
 "defaultResamplingMethod": "Bilinear",
 "maxImageHeight": 4100,
 "maxImageWidth": 15000,
 "allowRasterFunction": true,
 "rasterFunctionInfos": [
  {
   "name": "None",
   "description": "",
   "help": ""
  }
 ],
 "rasterTypeInfos": [
  {
   "name": "Raster Dataset",
   "description": "Supports all ArcGIS Raster Datasets",
   "help": ""
  }
 ],
 "mensurationCapabilities": "Basic",
 "hasHistograms": true,
 "hasColormap": false,
 "hasRasterAttributeTable": false,
 "minScale": 0,
 "maxScale": 0,
 "exportTilesAllowed": false,
 "supportsStatistics": false,
 "supportsAdvancedQueries": false,
 "editFieldsInfo": null,
 "ownershipBasedAccessControlForRasters": null,
 "allowComputeTiePoints": false,
 "useStandardizedQueries": true,
 "advancedQueryCapabilities": {
  "useStandardizedQueries": true,
  "supportsStatistics": false,
  "supportsOrderBy": false,
  "supportsDistinct": false,
  "supportsPagination": false
 },
 "spatialReference": {
  "wkid": 102681,
  "latestWkid": 3451
 }
}
