{
 "currentVersion": 10.91,
 "serviceDescription": "RobinsonBayou/RobinsonBayou_47324_GISDBO_InnunDepth100_24",
 "name": "RobinsonBayou/RobinsonBayou_47324_GISDBO_InnunDepth100_24",
 "description": "",
 "extent": {
  "xmin": 1589497.4229112724,
  "ymin": 428668.5602507804,
  "xmax": 1607979.9229112724,
  "ymax": 442816.0602507804,
  "spatialReference": {
   "wkid": 103024,
   "latestWkid": 6441
  }
 },
 "initialExtent": {
  "xmin": 1589497.4229112724,
  "ymin": 428668.5602507804,
  "xmax": 1607979.9229112724,
  "ymax": 442816.0602507804,
  "spatialReference": {
   "wkid": 103024,
   "latestWkid": 6441
  }
 },
 "fullExtent": {
  "xmin": 1589497.4229112724,
  "ymin": 428668.5602507804,
  "xmax": 1607979.9229112724,
  "ymax": 442816.0602507804,
  "spatialReference": {
   "wkid": 103024,
   "latestWkid": 6441
  }
 },
 "hasMultidimensions": false,
 "pixelSizeX": 2.5,
 "pixelSizeY": 2.5,
 "datasetFormat": "SDR",
 "uncompressedSize": 167347948,
 "blockWidth": 128,
 "blockHeight": 128,
 "compressionType": "LZ77",
 "bandNames": [
  "Band_1"
 ],
 "allowCopy": true,
 "allowAnalysis": true,
 "bandCount": 1,
 "pixelType": "F32",
 "minPixelSize": 0,
 "maxPixelSize": 0,
 "copyrightText": "",
 "serviceDataType": "esriImageServiceDataTypeGeneric",
 "serviceSourceType": "esriImageServiceSourceTypeDataset",
 "minValues": [
  0
 ],
 "maxValues": [
  10.363149642944336
 ],
 "meanValues": [
  1.7553069779534705
 ],
 "stdvValues": [
  1.4411195819661617
 ],
 "objectIdField": "",
 "fields": [],
 "capabilities": "Image,Metadata,Mensuration",
 "defaultMosaicMethod": "Center",
 "allowedMosaicMethods": "",
 "sortField": "",
 "sortValue": null,
 "sortAscending": true,
 "mosaicOperator": "First",
 "defaultCompressionQuality": 75,
 "defaultResamplingMethod": "Bilinear",
 "maxImageHeight": 4100,
 "maxImageWidth": 15000,
 "allowRasterFunction": true,
 "rasterFunctionInfos": [
  {
   "name": "None",
   "description": "",
   "help": ""
  }
 ],
 "rasterTypeInfos": [
  {
   "name": "Raster Dataset",
   "description": "Supports all ArcGIS Raster Datasets",
   "help": ""
  }
 ],
 "mensurationCapabilities": "Basic",
 "hasHistograms": true,
 "hasColormap": false,
 "hasRasterAttributeTable": false,
 "minScale": 0,
 "maxScale": 0,
 "exportTilesAllowed": false,
 "supportsStatistics": false,
 "supportsAdvancedQueries": false,
 "editFieldsInfo": null,
 "ownershipBasedAccessControlForRasters": null,
 "allowComputeTiePoints": false,
 "useStandardizedQueries": true,
 "advancedQueryCapabilities": {
  "useStandardizedQueries": true,
  "supportsStatistics": false,
  "supportsOrderBy": false,
  "supportsDistinct": false,
  "supportsPagination": false
 },
 "spatialReference": {
  "wkid": 103024,
  "latestWkid": 6441
 }
}
