{
 "currentVersion": 10.91,
 "serviceDescription": "UBCWCID/GISDBO_Depth_Velocity_Dam_1",
 "name": "UBCWCID/GISDBO_Depth_Velocity_Dam_1",
 "description": "",
 "extent": {
  "xmin": 3062612.8836695747,
  "ymin": 1.0146562801907152E7,
  "xmax": 3195837.6828362294,
  "ymax": 1.0194371105240481E7,
  "spatialReference": {
   "wkt": "PROJCS[\"NAD_1983_Texas_Central_ftUS\",GEOGCS[\"GCS_North_American_1983\",DATUM[\"D_North_American_1983\",SPHEROID[\"GRS_1980\",6378137.0,298.257222101]],PRIMEM[\"Greenwich\",0.0],UNIT[\"Degree\",0.0174532925199433]],PROJECTION[\"Lambert_Conformal_Conic\"],PARAMETER[\"False_Easting\",2296583.33333333],PARAMETER[\"False_Northing\",9842500.0],PARAMETER[\"Central_Meridian\",-100.333333333333],PARAMETER[\"Standard_Parallel_1\",30.1166666666667],PARAMETER[\"Standard_Parallel_2\",31.8833333333333],PARAMETER[\"Latitude_Of_Origin\",29.6666666666667],UNIT[\"Foot_US\",0.3048006096012192]]"
  }
 },
 "initialExtent": {
  "xmin": 3062612.8836695747,
  "ymin": 1.0146562801907152E7,
  "xmax": 3195837.6828362294,
  "ymax": 1.0194371105240481E7,
  "spatialReference": {
   "wkt": "PROJCS[\"NAD_1983_Texas_Central_ftUS\",GEOGCS[\"GCS_North_American_1983\",DATUM[\"D_North_American_1983\",SPHEROID[\"GRS_1980\",6378137.0,298.257222101]],PRIMEM[\"Greenwich\",0.0],UNIT[\"Degree\",0.0174532925199433]],PROJECTION[\"Lambert_Conformal_Conic\"],PARAMETER[\"False_Easting\",2296583.33333333],PARAMETER[\"False_Northing\",9842500.0],PARAMETER[\"Central_Meridian\",-100.333333333333],PARAMETER[\"Standard_Parallel_1\",30.1166666666667],PARAMETER[\"Standard_Parallel_2\",31.8833333333333],PARAMETER[\"Latitude_Of_Origin\",29.6666666666667],UNIT[\"Foot_US\",0.3048006096012192]]"
  }
 },
 "fullExtent": {
  "xmin": 3062612.8836695747,
  "ymin": 1.0146562801907152E7,
  "xmax": 3195837.6828362294,
  "ymax": 1.0194371105240481E7,
  "spatialReference": {
   "wkt": "PROJCS[\"NAD_1983_Texas_Central_ftUS\",GEOGCS[\"GCS_North_American_1983\",DATUM[\"D_North_American_1983\",SPHEROID[\"GRS_1980\",6378137.0,298.257222101]],PRIMEM[\"Greenwich\",0.0],UNIT[\"Degree\",0.0174532925199433]],PROJECTION[\"Lambert_Conformal_Conic\"],PARAMETER[\"False_Easting\",2296583.33333333],PARAMETER[\"False_Northing\",9842500.0],PARAMETER[\"Central_Meridian\",-100.333333333333],PARAMETER[\"Standard_Parallel_1\",30.1166666666667],PARAMETER[\"Standard_Parallel_2\",31.8833333333333],PARAMETER[\"Latitude_Of_Origin\",29.6666666666667],UNIT[\"Foot_US\",0.3048006096012192]]"
  }
 },
 "hasMultidimensions": false,
 "pixelSizeX": 3.280833333333039,
 "pixelSizeY": 3.2808333333330384,
 "datasetFormat": "SDR",
 "uncompressedSize": 2366900816,
 "blockWidth": 128,
 "blockHeight": 128,
 "compressionType": "LZ77",
 "bandNames": [
  "Band_1"
 ],
 "allowCopy": true,
 "allowAnalysis": true,
 "bandCount": 1,
 "pixelType": "F32",
 "minPixelSize": 0,
 "maxPixelSize": 0,
 "copyrightText": "",
 "serviceDataType": "esriImageServiceDataTypeGeneric",
 "serviceSourceType": "esriImageServiceSourceTypeDataset",
 "minValues": [
  0
 ],
 "maxValues": [
  240.1796112060547
 ],
 "meanValues": [
  26.989491814602097
 ],
 "stdvValues": [
  36.13549800849979
 ],
 "objectIdField": "",
 "fields": [],
 "capabilities": "Image,Metadata,Mensuration",
 "defaultMosaicMethod": "Center",
 "allowedMosaicMethods": "",
 "sortField": "",
 "sortValue": null,
 "sortAscending": true,
 "mosaicOperator": "First",
 "defaultCompressionQuality": 75,
 "defaultResamplingMethod": "Bilinear",
 "maxImageHeight": 4100,
 "maxImageWidth": 15000,
 "allowRasterFunction": true,
 "rasterFunctionInfos": [
  {
   "name": "None",
   "description": "",
   "help": ""
  }
 ],
 "rasterTypeInfos": [
  {
   "name": "Raster Dataset",
   "description": "Supports all ArcGIS Raster Datasets",
   "help": ""
  }
 ],
 "mensurationCapabilities": "Basic",
 "hasHistograms": true,
 "hasColormap": false,
 "hasRasterAttributeTable": false,
 "minScale": 0,
 "maxScale": 0,
 "exportTilesAllowed": false,
 "supportsStatistics": false,
 "supportsAdvancedQueries": false,
 "editFieldsInfo": null,
 "ownershipBasedAccessControlForRasters": null,
 "allowComputeTiePoints": false,
 "useStandardizedQueries": true,
 "advancedQueryCapabilities": {
  "useStandardizedQueries": true,
  "supportsStatistics": false,
  "supportsOrderBy": false,
  "supportsDistinct": false,
  "supportsPagination": false
 },
 "spatialReference": {
  "wkt": "PROJCS[\"NAD_1983_Texas_Central_ftUS\",GEOGCS[\"GCS_North_American_1983\",DATUM[\"D_North_American_1983\",SPHEROID[\"GRS_1980\",6378137.0,298.257222101]],PRIMEM[\"Greenwich\",0.0],UNIT[\"Degree\",0.0174532925199433]],PROJECTION[\"Lambert_Conformal_Conic\"],PARAMETER[\"False_Easting\",2296583.33333333],PARAMETER[\"False_Northing\",9842500.0],PARAMETER[\"Central_Meridian\",-100.333333333333],PARAMETER[\"Standard_Parallel_1\",30.1166666666667],PARAMETER[\"Standard_Parallel_2\",31.8833333333333],PARAMETER[\"Latitude_Of_Origin\",29.6666666666667],UNIT[\"Foot_US\",0.3048006096012192]]"
 }
}
