<?xml version="1.0" encoding="UTF-8" standalone="no"?>
<metadata xml:lang="en">
<Esri>
<CreaDate>20240121</CreaDate>
<CreaTime>11390000</CreaTime>
<ArcGISFormat>1.0</ArcGISFormat>
<SyncOnce>FALSE</SyncOnce>
<DataProperties>
<lineage>
<Process Date="20240121" Name="Con (2)" Time="113900" ToolSource="c:\program files\arcgis\pro\Resources\ArcToolbox\toolboxes\Spatial Analyst Tools.tbx\Con">Con C:\Projects\2023\C2023_098Pasco\GIS\Data\Inundation\PascoCo_Depth_Rasters.gdb\Depth_Elev_SWEL_100yr C:\Projects\2023\C2023_098Pasco\GIS\Data\Inundation\PascoCo_Depth_Rasters.gdb\Depth_Elev_SWEL_100yr C:\Projects\2023\C2023_098Pasco\GIS\Data\Inundation\PascoCo_PosDepth_Rasters.gdb\DepthPos_Elev_SWEL_100yr # "VALUE &gt; 0"</Process>
<Process Date="20240121" Name="Build Pyramids And Statistics" Time="131322" ToolSource="c:\program files\arcgis\pro\Resources\ArcToolbox\toolboxes\Data Management Tools.tbx\BuildPyramidsandStatistics">BuildPyramidsandStatistics C:\Projects\2023\C2023_098Pasco\GIS\Data\Inundation\PascoCo_PosDepth_Rasters.gdb\DepthPos_Elev_SWEL_100yr INCLUDE_SUBDIRECTORIES BUILD_PYRAMIDS CALCULATE_STATISTICS NONE # NONE # # # # NONE "Nearest neighbor" Default 75 SKIP_EXISTING # NONE</Process>
<Process Date="20240122" Time="151335" ToolSource="c:\program files\arcgis\pro\Resources\ArcToolbox\toolboxes\Data Management Tools.tbx\Rename">Rename C:\Projects\2023\C2023_098Pasco\GIS\Data\Inundation\PascoCo_PosDepth_Rasters.gdb\DepthPos_Elev_SWEL_100yr C:\Projects\2023\C2023_098Pasco\GIS\Data\Inundation\PascoCo_PosDepth_Rasters.gdb\PosDepth_SWEL_100yr RasterDataset</Process>
<Process Date="20240123" Name="Copy Raster" Time="175711" ToolSource="c:\program files\arcgis\pro\Resources\ArcToolbox\toolboxes\Data Management Tools.tbx\CopyRaster">CopyRaster D:\Projects\2023\C2023_094Pasco\GIS\Data\Inundation\PascoCo_PosDepth_Rasters.gdb\PosDepth_SWEL_100yr D:\Projects\2023\C2023_094Pasco\GIS\Data\Inundation\DepthTIFs\PosDepth_SWEL_100yr.tif # # 3.4e+38 NONE NONE # NONE NONE "TIFF format" NONE CURRENT_SLICE NO_TRANSPOSE</Process>
<Process Date="20241008" Time="164934" ToolSource="c:\program files\arcgis\pro\Resources\ArcToolbox\toolboxes\Data Management Tools.tbx\CopyRaster">CopyRaster A:\56000s\56793\001\GIS\Data\PascoCo_Data\Threat_Data\PosDepth_SWEL_100yr.tif W:\Citrix\SDE_Connections\Internal\SQL19\WaterResourcesProjects_DBO.sde\WaterResourcesProjects.GISDBO.Pasco_SWEL_100yr # # 3.4e+38 NONE NONE "32 bit float" NONE NONE "Esri Grid format" NONE CURRENT_SLICE NO_TRANSPOSE</Process>
</lineage>
<itemProps>
<itemName Sync="TRUE">WaterResourcesProjects.GISDBO.Pasco_SWEL_100yr</itemName>
<itemLocation>
<linkage Sync="TRUE">Server=rchdb02-ahv; Service=sde:sqlserver:rchdb02-ahv\sde; Database=WaterResourcesProjects; User=GISDBO; Version=sde.DEFAULT</linkage>
<protocol Sync="TRUE">ArcSDE Connection</protocol>
</itemLocation>
<imsContentType Sync="TRUE">002</imsContentType>
<nativeExtBox>
<westBL Sync="TRUE">399892.500000</westBL>
<eastBL Sync="TRUE">640072.500000</eastBL>
<southBL Sync="TRUE">1394197.500000</southBL>
<northBL Sync="TRUE">1510857.500000</northBL>
<exTypeCode Sync="TRUE">1</exTypeCode>
</nativeExtBox>
</itemProps>
<coordRef>
<type Sync="TRUE">Projected</type>
<geogcsn Sync="TRUE">GCS_North_American_1983</geogcsn>
<csUnits Sync="TRUE">Linear Unit: Foot_US (0.304801)</csUnits>
<projcsn Sync="TRUE">NAD_1983_StatePlane_Florida_West_FIPS_0902_Feet</projcsn>
<peXml Sync="TRUE">&lt;ProjectedCoordinateSystem xsi:type='typens:ProjectedCoordinateSystem' xmlns:xsi='http://www.w3.org/2001/XMLSchema-instance' xmlns:xs='http://www.w3.org/2001/XMLSchema' xmlns:typens='http://www.esri.com/schemas/ArcGIS/2.9.0'&gt;&lt;WKT&gt;PROJCS[&amp;quot;NAD_1983_StatePlane_Florida_West_FIPS_0902_Feet&amp;quot;,GEOGCS[&amp;quot;GCS_North_American_1983&amp;quot;,DATUM[&amp;quot;D_North_American_1983&amp;quot;,SPHEROID[&amp;quot;GRS_1980&amp;quot;,6378137.0,298.257222101]],PRIMEM[&amp;quot;Greenwich&amp;quot;,0.0],UNIT[&amp;quot;Degree&amp;quot;,0.0174532925199433]],PROJECTION[&amp;quot;Transverse_Mercator&amp;quot;],PARAMETER[&amp;quot;False_Easting&amp;quot;,656166.667],PARAMETER[&amp;quot;False_Northing&amp;quot;,0.0],PARAMETER[&amp;quot;Central_Meridian&amp;quot;,-82.0],PARAMETER[&amp;quot;Scale_Factor&amp;quot;,0.999941177],PARAMETER[&amp;quot;Latitude_Of_Origin&amp;quot;,24.3333333333333],UNIT[&amp;quot;Foot_US&amp;quot;,0.3048006096012192]]&lt;/WKT&gt;&lt;XOrigin&gt;-17791300&lt;/XOrigin&gt;&lt;YOrigin&gt;-41645400&lt;/YOrigin&gt;&lt;XYScale&gt;137249422.94257641&lt;/XYScale&gt;&lt;ZOrigin&gt;-100000&lt;/ZOrigin&gt;&lt;ZScale&gt;10000&lt;/ZScale&gt;&lt;MOrigin&gt;-100000&lt;/MOrigin&gt;&lt;MScale&gt;10000&lt;/MScale&gt;&lt;XYTolerance&gt;0.0032808333333333331&lt;/XYTolerance&gt;&lt;ZTolerance&gt;0.00020000000000000001&lt;/ZTolerance&gt;&lt;MTolerance&gt;0.00020000000000000001&lt;/MTolerance&gt;&lt;HighPrecision&gt;true&lt;/HighPrecision&gt;&lt;/ProjectedCoordinateSystem&gt;</peXml>
</coordRef>
<RasterProperties>
<General>
<PixelDepth Sync="TRUE">32</PixelDepth>
<HasColormap Sync="TRUE">FALSE</HasColormap>
<CompressionType Sync="TRUE">LZW</CompressionType>
<NumBands Sync="TRUE">1</NumBands>
<Format Sync="TRUE">TIFF</Format>
<HasPyramids Sync="TRUE">TRUE</HasPyramids>
<SourceType Sync="TRUE">continuous</SourceType>
<PixelType Sync="TRUE">floating point</PixelType>
<NoDataValue Sync="TRUE">3.4e+38</NoDataValue>
</General>
</RasterProperties>
</DataProperties>
<SyncDate>20241008</SyncDate>
<SyncTime>16493000</SyncTime>
<ModDate>20241008</ModDate>
<ModTime>16493000</ModTime>
</Esri>
<dataIdInfo>
<envirDesc Sync="TRUE">Microsoft Windows 10 Version 10.0 (Build 19045) ; Esri ArcGIS 12.9.10.32739</envirDesc>
<dataLang>
<languageCode Sync="TRUE" value="eng"/>
<countryCode Sync="TRUE" value="USA"/>
</dataLang>
<idCitation>
<resTitle Sync="TRUE">Pasco County SWEL 100Yr</resTitle>
<presForm>
<PresFormCd Sync="TRUE" value="011"/>
</presForm>
</idCitation>
<spatRpType>
<SpatRepTypCd Sync="TRUE" value="002"/>
</spatRpType>
<dataExt>
<geoEle>
<GeoBndBox esriExtentType="search">
<exTypeCode Sync="TRUE">1</exTypeCode>
<westBL Sync="TRUE">-82.797787</westBL>
<eastBL Sync="TRUE">-82.049953</eastBL>
<northBL Sync="TRUE">28.490000</northBL>
<southBL Sync="TRUE">28.166832</southBL>
</GeoBndBox>
</geoEle>
</dataExt>
<idAbs/>
<searchKeys>
<keyword>1%</keyword>
<keyword>AEP</keyword>
<keyword>Storm Surge Flooding Grid</keyword>
<keyword>Pasco County</keyword>
<keyword>Florida</keyword>
</searchKeys>
<idPurp>The 1% annual exceedance probability (AEP) storm surge flooding grid for Pasco County, Florida current conditions</idPurp>
<idCredit/>
<resConst>
<Consts>
<useLimit/>
</Consts>
</resConst>
</dataIdInfo>
<mdLang>
<languageCode Sync="TRUE" value="eng"/>
<countryCode Sync="TRUE" value="USA"/>
</mdLang>
<distInfo>
<distFormat>
<formatName Sync="TRUE">Enterprise Geodatabase Raster Dataset</formatName>
</distFormat>
</distInfo>
<mdHrLv>
<ScopeCd Sync="TRUE" value="005"/>
</mdHrLv>
<mdHrLvName Sync="TRUE">dataset</mdHrLvName>
<refSysInfo>
<RefSystem>
<refSysID>
<identCode Sync="TRUE" code="0"/>
</refSysID>
</RefSystem>
</refSysInfo>
<spatRepInfo>
<Georect>
<cellGeo>
<CellGeoCd Sync="TRUE" value="002"/>
</cellGeo>
<numDims Sync="TRUE">2</numDims>
<tranParaAv Sync="TRUE">1</tranParaAv>
<chkPtAv Sync="TRUE">0</chkPtAv>
<cornerPts>
<pos Sync="TRUE">399892.500000 1394197.500000</pos>
</cornerPts>
<cornerPts>
<pos Sync="TRUE">399892.500000 1510857.500000</pos>
</cornerPts>
<cornerPts>
<pos Sync="TRUE">640072.500000 1510857.500000</pos>
</cornerPts>
<cornerPts>
<pos Sync="TRUE">640072.500000 1394197.500000</pos>
</cornerPts>
<centerPt>
<pos Sync="TRUE">519982.500000 1452527.500000</pos>
</centerPt>
<axisDimension type="002">
<dimSize Sync="TRUE">24018</dimSize>
<dimResol>
<value Sync="TRUE" uom="ftUS">10.000000</value>
</dimResol>
</axisDimension>
<axisDimension type="001">
<dimSize Sync="TRUE">11666</dimSize>
<dimResol>
<value Sync="TRUE" uom="ftUS">10.000000</value>
</dimResol>
</axisDimension>
<ptInPixel>
<PixOrientCd Sync="TRUE" value="001"/>
</ptInPixel>
</Georect>
</spatRepInfo>
<contInfo>
<ImgDesc>
<contentTyp>
<ContentTypCd Sync="TRUE" value="001"/>
</contentTyp>
<covDim>
<Band>
<dimDescrp Sync="TRUE">Band_1</dimDescrp>
<bitsPerVal Sync="TRUE">32</bitsPerVal>
<valUnit>
<UOM type="length"/>
</valUnit>
</Band>
</covDim>
</ImgDesc>
</contInfo>
<mdDateSt Sync="TRUE">20241008</mdDateSt>
<spdoinfo>
<rastinfo>
<rasttype Sync="TRUE">Pixel</rasttype>
<rowcount Sync="TRUE">11666</rowcount>
<colcount Sync="TRUE">24018</colcount>
<rastxsz Sync="TRUE">10.000000</rastxsz>
<rastysz Sync="TRUE">10.000000</rastysz>
<rastbpp Sync="TRUE">32</rastbpp>
<vrtcount Sync="TRUE">1</vrtcount>
<rastorig Sync="TRUE">Upper Left</rastorig>
<rastcmap Sync="TRUE">FALSE</rastcmap>
<rastcomp Sync="TRUE">LZ77</rastcomp>
<rastband Sync="TRUE">1</rastband>
<rastdtyp Sync="TRUE">pixel codes</rastdtyp>
<rastifor Sync="TRUE">SDR</rastifor>
<rastplyr Sync="TRUE">TRUE</rastplyr>
</rastinfo>
</spdoinfo>
<spref>
<horizsys>
<planar>
<planci>
<plance Sync="TRUE">row and column</plance>
<coordrep>
<absres Sync="TRUE">10.000000</absres>
<ordres Sync="TRUE">10.000000</ordres>
</coordrep>
</planci>
</planar>
</horizsys>
</spref>
</metadata>
