{
 "currentVersion": 10.91,
 "serviceDescription": "WaterResource/Pasco_County_SWEL_100Yr",
 "name": "WaterResource/Pasco_County_SWEL_100Yr",
 "description": "",
 "extent": {
  "xmin": 399892.49999998923,
  "ymin": 1394197.4999999981,
  "xmax": 640072.4999999892,
  "ymax": 1510857.4999999981,
  "spatialReference": {
   "wkt": "PROJCS[\"NAD_1983_StatePlane_Florida_West_FIPS_0902_Feet\",GEOGCS[\"GCS_North_American_1983\",DATUM[\"D_North_American_1983\",SPHEROID[\"GRS_1980\",6378137.0,298.257222101]],PRIMEM[\"Greenwich\",0.0],UNIT[\"Degree\",0.0174532925199433]],PROJECTION[\"Transverse_Mercator\"],PARAMETER[\"False_Easting\",656166.667],PARAMETER[\"False_Northing\",0.0],PARAMETER[\"Central_Meridian\",-82.0],PARAMETER[\"Scale_Factor\",0.999941177],PARAMETER[\"Latitude_Of_Origin\",24.3333333333333],UNIT[\"Foot_US\",0.3048006096012192]]"
  }
 },
 "initialExtent": {
  "xmin": 399892.49999998923,
  "ymin": 1394197.4999999981,
  "xmax": 640072.4999999892,
  "ymax": 1510857.4999999981,
  "spatialReference": {
   "wkt": "PROJCS[\"NAD_1983_StatePlane_Florida_West_FIPS_0902_Feet\",GEOGCS[\"GCS_North_American_1983\",DATUM[\"D_North_American_1983\",SPHEROID[\"GRS_1980\",6378137.0,298.257222101]],PRIMEM[\"Greenwich\",0.0],UNIT[\"Degree\",0.0174532925199433]],PROJECTION[\"Transverse_Mercator\"],PARAMETER[\"False_Easting\",656166.667],PARAMETER[\"False_Northing\",0.0],PARAMETER[\"Central_Meridian\",-82.0],PARAMETER[\"Scale_Factor\",0.999941177],PARAMETER[\"Latitude_Of_Origin\",24.3333333333333],UNIT[\"Foot_US\",0.3048006096012192]]"
  }
 },
 "fullExtent": {
  "xmin": 399892.49999998923,
  "ymin": 1394197.4999999981,
  "xmax": 640072.4999999892,
  "ymax": 1510857.4999999981,
  "spatialReference": {
   "wkt": "PROJCS[\"NAD_1983_StatePlane_Florida_West_FIPS_0902_Feet\",GEOGCS[\"GCS_North_American_1983\",DATUM[\"D_North_American_1983\",SPHEROID[\"GRS_1980\",6378137.0,298.257222101]],PRIMEM[\"Greenwich\",0.0],UNIT[\"Degree\",0.0174532925199433]],PROJECTION[\"Transverse_Mercator\"],PARAMETER[\"False_Easting\",656166.667],PARAMETER[\"False_Northing\",0.0],PARAMETER[\"Central_Meridian\",-82.0],PARAMETER[\"Scale_Factor\",0.999941177],PARAMETER[\"Latitude_Of_Origin\",24.3333333333333],UNIT[\"Foot_US\",0.3048006096012192]]"
  }
 },
 "hasMultidimensions": false,
 "pixelSizeX": 9.999999999999998,
 "pixelSizeY": 10,
 "datasetFormat": "SDR",
 "uncompressedSize": 1120775952,
 "blockWidth": 128,
 "blockHeight": 128,
 "compressionType": "LZ77",
 "bandNames": [
  "Band_1"
 ],
 "allowCopy": true,
 "allowAnalysis": true,
 "bandCount": 1,
 "pixelType": "F32",
 "minPixelSize": 0,
 "maxPixelSize": 0,
 "copyrightText": "",
 "serviceDataType": "esriImageServiceDataTypeGeneric",
 "serviceSourceType": "esriImageServiceSourceTypeDataset",
 "minValues": [
  1.9073486328125E-6
 ],
 "maxValues": [
  15.16452693939209
 ],
 "meanValues": [
  8.097325999479681
 ],
 "stdvValues": [
  4.389746617742871
 ],
 "objectIdField": "",
 "fields": [],
 "capabilities": "Image,Metadata,Mensuration",
 "defaultMosaicMethod": "Center",
 "allowedMosaicMethods": "",
 "sortField": "",
 "sortValue": null,
 "sortAscending": true,
 "mosaicOperator": "First",
 "defaultCompressionQuality": 75,
 "defaultResamplingMethod": "Bilinear",
 "maxImageHeight": 4100,
 "maxImageWidth": 15000,
 "allowRasterFunction": true,
 "rasterFunctionInfos": [
  {
   "name": "None",
   "description": "",
   "help": ""
  }
 ],
 "rasterTypeInfos": [
  {
   "name": "Raster Dataset",
   "description": "Supports all ArcGIS Raster Datasets",
   "help": ""
  }
 ],
 "mensurationCapabilities": "Basic",
 "hasHistograms": true,
 "hasColormap": false,
 "hasRasterAttributeTable": false,
 "minScale": 0,
 "maxScale": 0,
 "exportTilesAllowed": false,
 "supportsStatistics": false,
 "supportsAdvancedQueries": false,
 "editFieldsInfo": null,
 "ownershipBasedAccessControlForRasters": null,
 "allowComputeTiePoints": false,
 "useStandardizedQueries": true,
 "advancedQueryCapabilities": {
  "useStandardizedQueries": true,
  "supportsStatistics": false,
  "supportsOrderBy": false,
  "supportsDistinct": false,
  "supportsPagination": false
 },
 "spatialReference": {
  "wkt": "PROJCS[\"NAD_1983_StatePlane_Florida_West_FIPS_0902_Feet\",GEOGCS[\"GCS_North_American_1983\",DATUM[\"D_North_American_1983\",SPHEROID[\"GRS_1980\",6378137.0,298.257222101]],PRIMEM[\"Greenwich\",0.0],UNIT[\"Degree\",0.0174532925199433]],PROJECTION[\"Transverse_Mercator\"],PARAMETER[\"False_Easting\",656166.667],PARAMETER[\"False_Northing\",0.0],PARAMETER[\"Central_Meridian\",-82.0],PARAMETER[\"Scale_Factor\",0.999941177],PARAMETER[\"Latitude_Of_Origin\",24.3333333333333],UNIT[\"Foot_US\",0.3048006096012192]]"
 }
}
