View In:
ArcGIS JavaScript
ArcGIS Online Map Viewer
ArcGIS Earth
ArcMap
View Footprint In:
ArcGIS Online Map Viewer
Service Description: AVO32834_010_HOG/HOG_500Yr_WSEL
Name: AVO32834_010_HOG/HOG_500Yr_WSEL
Description:
Single Fused Map Cache: false
Extent:
XMin: 2334886.213433995
YMin: 7092314.455769688
XMax: 2342818.213433995
YMax: 7116758.455769688
Spatial Reference: 102738
(2276)
Initial Extent:
XMin: 2334886.213433995
YMin: 7092314.455769688
XMax: 2342818.213433995
YMax: 7116758.455769688
Spatial Reference: 102738
(2276)
Full Extent:
XMin: 2334886.213433995
YMin: 7092314.455769688
XMax: 2342818.213433995
YMax: 7116758.455769688
Spatial Reference: 102738
(2276)
Pixel Size X: 3.0
Pixel Size Y: 3.0
Band Count: 1
Pixel Type: F32
RasterFunction Infos: {"rasterFunctionInfos": [{
"name": "None",
"description": "",
"help": ""
}]}
Mensuration Capabilities: Basic
Has Histograms: true
Has Colormap: false
Has Multi Dimensions : false
Rendering Rule:
Min Scale: 0
Max Scale: 0
Copyright Text:
Service Data Type: esriImageServiceDataTypeGeneric
Min Values: 626.0999755859375
Max Values: 756.7000122070312
Mean Values: 669.3879192529168
Standard Deviation Values: 41.55357044902541
Object ID Field:
Fields:
None
Default Mosaic Method: Center
Allowed Mosaic Methods:
SortField:
SortValue: null
Mosaic Operator: First
Default Compression Quality: 75
Default Resampling Method: Bilinear
Max Record Count: null
Max Image Height: 4100
Max Image Width: 15000
Max Download Image Count: null
Max Mosaic Image Count: null
Allow Raster Function: true
Allow Copy: true
Allow Analysis: true
Allow Compute TiePoints: false
Supports Statistics: false
Supports Advanced Queries: false
Use StandardizedQueries: true
Raster Type Infos:
Name: Raster Dataset
Description: Supports all ArcGIS Raster Datasets
Help:
Has Raster Attribute Table: false
Edit Fields Info: null
Ownership Based AccessControl For Rasters: null
Child Resources:
Info
Histograms
Statistics
Key Properties
Legend
Raster Function Infos
Supported Operations:
Export Image
Identify
Measure
Compute Histograms
Compute Statistics Histograms
Get Samples
Compute Class Statistics
Query Boundary
Compute Pixel Location
Compute Angles
Validate
Project