View In:
ArcGIS JavaScript
ArcGIS Online Map Viewer
ArcGIS Earth
ArcMap
View Footprint In:
ArcGIS Online Map Viewer
Service Description: AVO36574_Grapevine_BigBearCreek_Erosion/Terrain_Difference
Name: AVO36574_Grapevine_BigBearCreek_Erosion/Terrain_Difference
Description:
Single Fused Map Cache: false
Extent:
XMin: -1.08127008817177E7
YMin: 3879398.8770694844
XMax: -1.080529514130622E7
YMax: 3884162.9105975516
Spatial Reference: 102100
(3857)
Initial Extent:
XMin: -1.08127008817177E7
YMin: 3879398.8770694844
XMax: -1.080529514130622E7
YMax: 3884162.9105975516
Spatial Reference: 102100
(3857)
Full Extent:
XMin: -1.08127008817177E7
YMin: 3879398.8770694844
XMax: -1.080529514130622E7
YMax: 3884162.9105975516
Spatial Reference: 102100
(3857)
Pixel Size X: 0.9144018288036657
Pixel Size Y: 0.9144018288036798
Band Count: 1
Pixel Type: F32
RasterFunction Infos: {"rasterFunctionInfos": [{
"name": "None",
"description": "",
"help": ""
}]}
Mensuration Capabilities: Basic
Has Histograms: true
Has Colormap: false
Has Multi Dimensions : false
Rendering Rule:
Min Scale: 0
Max Scale: 0
Copyright Text:
Service Data Type: esriImageServiceDataTypeGeneric
Min Values: -27.37335205078125
Max Values: 23.9566650390625
Mean Values: -0.7123157606560219
Standard Deviation Values: 1.5250852421547438
Object ID Field:
Fields:
None
Default Mosaic Method: Center
Allowed Mosaic Methods:
SortField:
SortValue: null
Mosaic Operator: First
Default Compression Quality: 75
Default Resampling Method: Bilinear
Max Record Count: null
Max Image Height: 4100
Max Image Width: 15000
Max Download Image Count: null
Max Mosaic Image Count: null
Allow Raster Function: true
Allow Copy: true
Allow Analysis: true
Allow Compute TiePoints: false
Supports Statistics: false
Supports Advanced Queries: false
Use StandardizedQueries: true
Raster Type Infos:
Name: Raster Dataset
Description: Supports all ArcGIS Raster Datasets
Help:
Has Raster Attribute Table: false
Edit Fields Info: null
Ownership Based AccessControl For Rasters: null
Child Resources:
Info
Histograms
Statistics
Key Properties
Legend
Raster Function Infos
Supported Operations:
Export Image
Identify
Measure
Compute Histograms
Compute Statistics Histograms
Get Samples
Compute Class Statistics
Query Boundary
Compute Pixel Location
Compute Angles
Validate
Project