View In:
ArcGIS JavaScript
ArcGIS Online Map Viewer
ArcGIS Earth
ArcMap
View Footprint In:
ArcGIS Online Map Viewer
Service Description: Ennis/City_Imagery_17
Name: Ennis/City_Imagery_17
Description:
Single Fused Map Cache: false
Extent:
XMin: -1.077176377052179E7
YMin: 3796855.3281490044
XMax: -1.0735653737501724E7
YMax: 3821404.274046896
Spatial Reference: 102100
(3857)
Initial Extent:
XMin: -1.077176377052179E7
YMin: 3796855.3281490044
XMax: -1.0735653737501724E7
YMax: 3821404.274046896
Spatial Reference: 102100
(3857)
Full Extent:
XMin: -1.077176377052179E7
YMin: 3796855.3281490044
XMax: -1.0735653737501724E7
YMax: 3821404.274046896
Spatial Reference: 102100
(3857)
Pixel Size X: 0.15240030480060984
Pixel Size Y: 0.1524003048006087
Band Count: 4
Pixel Type: U8
RasterFunction Infos: {"rasterFunctionInfos": [{
"name": "None",
"description": "",
"help": ""
}]}
Mensuration Capabilities: Basic
Has Histograms: true
Has Colormap: false
Has Multi Dimensions : false
Rendering Rule:
Min Scale: 0
Max Scale: 0
Copyright Text:
Service Data Type: esriImageServiceDataTypeGeneric
Min Values: 0, 0, 0, 0
Max Values: 255, 255, 255, 255
Mean Values: 80.51851104536874, 86.46100554040177, 58.170997014759145, 97.96639216949558
Standard Deviation Values: 30.399735050480857, 25.10054846187238, 19.929874503598672, 26.573218676069978
Object ID Field:
Fields:
None
Default Mosaic Method: Center
Allowed Mosaic Methods:
SortField:
SortValue: null
Mosaic Operator: First
Default Compression Quality: 75
Default Resampling Method: Bilinear
Max Record Count: null
Max Image Height: 4100
Max Image Width: 15000
Max Download Image Count: null
Max Mosaic Image Count: null
Allow Raster Function: true
Allow Copy: true
Allow Analysis: true
Allow Compute TiePoints: false
Supports Statistics: false
Supports Advanced Queries: false
Use StandardizedQueries: true
Raster Type Infos:
Name: Raster Dataset
Description: Supports all ArcGIS Raster Datasets
Help:
Has Raster Attribute Table: false
Edit Fields Info: null
Ownership Based AccessControl For Rasters: null
Child Resources:
Info
Histograms
Statistics
Key Properties
Legend
Raster Function Infos
Supported Operations:
Export Image
Identify
Measure
Compute Histograms
Compute Statistics Histograms
Get Samples
Compute Class Statistics
Query Boundary
Compute Pixel Location
Compute Angles
Validate
Project