View In:
ArcGIS JavaScript
ArcGIS Online Map Viewer
ArcGIS Earth
ArcMap
View Footprint In:
ArcGIS Online Map Viewer
Service Description: NCTCOG_FY18/BRK_10Yr_Depth
Name: NCTCOG_FY18/BRK_10Yr_Depth
Description:
Single Fused Map Cache: false
Extent:
XMin: -1.0854565587422369E7
YMin: 3844681.986708107
XMax: -1.0842799979091153E7
YMax: 3858327.605199344
Spatial Reference: 102100
(3857)
Initial Extent:
XMin: -1.0854565587422369E7
YMin: 3844681.986708107
XMax: -1.0842799979091153E7
YMax: 3858327.605199344
Spatial Reference: 102100
(3857)
Full Extent:
XMin: -1.0854565587422369E7
YMin: 3844681.986708107
XMax: -1.0842799979091153E7
YMax: 3858327.605199344
Spatial Reference: 102100
(3857)
Pixel Size X: 0.914401828803645
Pixel Size Y: 0.9144018288036623
Band Count: 1
Pixel Type: F32
RasterFunction Infos: {"rasterFunctionInfos": [{
"name": "None",
"description": "",
"help": ""
}]}
Mensuration Capabilities: Basic
Has Histograms: true
Has Colormap: false
Has Multi Dimensions : false
Rendering Rule:
Min Scale: 0
Max Scale: 0
Copyright Text:
Service Data Type: esriImageServiceDataTypeGeneric
Min Values: 6.103515625E-5
Max Values: 26.65625
Mean Values: 8.845021133644254
Standard Deviation Values: 3.8887626561419317
Object ID Field:
Fields:
None
Default Mosaic Method: Center
Allowed Mosaic Methods:
SortField:
SortValue: null
Mosaic Operator: First
Default Compression Quality: 75
Default Resampling Method: Bilinear
Max Record Count: null
Max Image Height: 4100
Max Image Width: 15000
Max Download Image Count: null
Max Mosaic Image Count: null
Allow Raster Function: true
Allow Copy: true
Allow Analysis: true
Allow Compute TiePoints: false
Supports Statistics: false
Supports Advanced Queries: false
Use StandardizedQueries: true
Raster Type Infos:
Name: Raster Dataset
Description: Supports all ArcGIS Raster Datasets
Help:
Has Raster Attribute Table: false
Edit Fields Info: null
Ownership Based AccessControl For Rasters: null
Child Resources:
Info
Histograms
Statistics
Key Properties
Legend
Raster Function Infos
Supported Operations:
Export Image
Identify
Measure
Compute Histograms
Compute Statistics Histograms
Get Samples
Compute Class Statistics
Query Boundary
Compute Pixel Location
Compute Angles
Validate
Project