View In:
ArcGIS JavaScript
ArcGIS Online Map Viewer
ArcGIS Earth
ArcMap
View Footprint In:
ArcGIS Online Map Viewer
Service Description: NCTCOG_FY18/BRK_PCT_ANN_Chance
Name: NCTCOG_FY18/BRK_PCT_ANN_Chance
Description:
Single Fused Map Cache: false
Extent:
XMin: -1.0855671915092891E7
YMin: 3844680.613962043
XMax: -1.0842681008311078E7
YMax: 3858812.6942262035
Spatial Reference: 102100
(3857)
Initial Extent:
XMin: -1.0855671915092891E7
YMin: 3844680.613962043
XMax: -1.0842681008311078E7
YMax: 3858812.6942262035
Spatial Reference: 102100
(3857)
Full Extent:
XMin: -1.0855671915092891E7
YMin: 3844680.613962043
XMax: -1.0842681008311078E7
YMax: 3858812.6942262035
Spatial Reference: 102100
(3857)
Pixel Size X: 0.9144018288036271
Pixel Size Y: 0.91440182880365
Band Count: 1
Pixel Type: F32
RasterFunction Infos: {"rasterFunctionInfos": [{
"name": "None",
"description": "",
"help": ""
}]}
Mensuration Capabilities: Basic
Has Histograms: true
Has Colormap: false
Has Multi Dimensions : false
Rendering Rule:
Min Scale: 0
Max Scale: 0
Copyright Text:
Service Data Type: esriImageServiceDataTypeGeneric
Min Values: 0.20000000298023224
Max Values: 10
Mean Values: 6.164875094072472
Standard Deviation Values: 4.499593503957647
Object ID Field:
Fields:
None
Default Mosaic Method: Center
Allowed Mosaic Methods:
SortField:
SortValue: null
Mosaic Operator: First
Default Compression Quality: 75
Default Resampling Method: Bilinear
Max Record Count: null
Max Image Height: 4100
Max Image Width: 15000
Max Download Image Count: null
Max Mosaic Image Count: null
Allow Raster Function: true
Allow Copy: true
Allow Analysis: true
Allow Compute TiePoints: false
Supports Statistics: false
Supports Advanced Queries: false
Use StandardizedQueries: true
Raster Type Infos:
Name: Raster Dataset
Description: Supports all ArcGIS Raster Datasets
Help:
Has Raster Attribute Table: false
Edit Fields Info: null
Ownership Based AccessControl For Rasters: null
Child Resources:
Info
Histograms
Statistics
Key Properties
Legend
Raster Function Infos
Supported Operations:
Export Image
Identify
Measure
Compute Histograms
Compute Statistics Histograms
Get Samples
Compute Class Statistics
Query Boundary
Compute Pixel Location
Compute Angles
Validate
Project