View In:
ArcGIS JavaScript
ArcGIS Online Map Viewer
ArcGIS Earth
ArcMap
View Footprint In:
ArcGIS Online Map Viewer
Service Description: RAPC/RAPC_AVO_42262_GISDBO_BLE_Depth_002pct_mosaic
Name: RAPC/RAPC_AVO_42262_GISDBO_BLE_Depth_002pct_mosaic
Description:
Single Fused Map Cache: false
Extent:
XMin: 3237900.2797548184
YMin: 228343.09526804835
XMax: 3365505.381224701
YMax: 362193.298164078
Spatial Reference: 102681
(3451)
Initial Extent:
XMin: 3237900.2797548184
YMin: 228343.09526804835
XMax: 3365505.381224701
YMax: 362193.298164078
Spatial Reference: 102681
(3451)
Full Extent:
XMin: 3237900.2797548184
YMin: 228343.09526804835
XMax: 3365505.381224701
YMax: 362193.298164078
Spatial Reference: 102681
(3451)
Pixel Size X: 9.917238009627944
Pixel Size Y: 9.970962671039157
Band Count: 1
Pixel Type: F32
RasterFunction Infos: {"rasterFunctionInfos": [{
"name": "None",
"description": "",
"help": ""
}]}
Mensuration Capabilities: Basic
Has Histograms: true
Has Colormap: false
Has Multi Dimensions : false
Rendering Rule:
Min Scale: 0
Max Scale: 0
Copyright Text:
Service Data Type: esriImageServiceDataTypeGeneric
Min Values: 0
Max Values: 36.79999923706055
Mean Values: 7.945207728683417
Standard Deviation Values: 9.007652910494025
Object ID Field:
Fields:
None
Default Mosaic Method: Center
Allowed Mosaic Methods:
SortField:
SortValue: null
Mosaic Operator: First
Default Compression Quality: 75
Default Resampling Method: Bilinear
Max Record Count: null
Max Image Height: 4100
Max Image Width: 15000
Max Download Image Count: null
Max Mosaic Image Count: null
Allow Raster Function: true
Allow Copy: true
Allow Analysis: true
Allow Compute TiePoints: false
Supports Statistics: false
Supports Advanced Queries: false
Use StandardizedQueries: true
Raster Type Infos:
Name: Raster Dataset
Description: Supports all ArcGIS Raster Datasets
Help:
Has Raster Attribute Table: false
Edit Fields Info: null
Ownership Based AccessControl For Rasters: null
Child Resources:
Info
Histograms
Statistics
Key Properties
Legend
Raster Function Infos
Supported Operations:
Export Image
Identify
Measure
Compute Histograms
Compute Statistics Histograms
Get Samples
Compute Class Statistics
Query Boundary
Compute Pixel Location
Compute Angles
Validate
Project