View In:
ArcGIS JavaScript
ArcGIS Online Map Viewer
ArcGIS Earth
ArcMap
View Footprint In:
ArcGIS Online Map Viewer
Service Description: RAPC/RAPC_AVO_42262_GISDBO_BLE_Terrain_mosaic
Name: RAPC/RAPC_AVO_42262_GISDBO_BLE_Terrain_mosaic
Description:
Single Fused Map Cache: false
Extent:
XMin: 3237848.070889908
YMin: 228339.44162773917
XMax: 3365504.418460967
YMax: 362189.587296455
Spatial Reference: 102681
(3451)
Initial Extent:
XMin: 3237848.070889908
YMin: 228339.44162773917
XMax: 3365504.418460967
YMax: 362189.587296455
Spatial Reference: 102681
(3451)
Full Extent:
XMin: 3237848.070889908
YMin: 228339.44162773917
XMax: 3365504.418460967
YMax: 362189.587296455
Spatial Reference: 102681
(3451)
Pixel Size X: 9.921220764052158
Pixel Size Y: 9.964277947496154
Band Count: 1
Pixel Type: F32
RasterFunction Infos: {"rasterFunctionInfos": [{
"name": "None",
"description": "",
"help": ""
}]}
Mensuration Capabilities: Basic
Has Histograms: true
Has Colormap: false
Has Multi Dimensions : false
Rendering Rule:
Min Scale: 0
Max Scale: 0
Copyright Text:
Service Data Type: esriImageServiceDataTypeGeneric
Min Values: 45.6875
Max Values: 246.875
Mean Values: 96.85360338897267
Standard Deviation Values: 34.79438002818439
Object ID Field:
Fields:
None
Default Mosaic Method: Center
Allowed Mosaic Methods:
SortField:
SortValue: null
Mosaic Operator: First
Default Compression Quality: 75
Default Resampling Method: Bilinear
Max Record Count: null
Max Image Height: 4100
Max Image Width: 15000
Max Download Image Count: null
Max Mosaic Image Count: null
Allow Raster Function: true
Allow Copy: true
Allow Analysis: true
Allow Compute TiePoints: false
Supports Statistics: false
Supports Advanced Queries: false
Use StandardizedQueries: true
Raster Type Infos:
Name: Raster Dataset
Description: Supports all ArcGIS Raster Datasets
Help:
Has Raster Attribute Table: false
Edit Fields Info: null
Ownership Based AccessControl For Rasters: null
Child Resources:
Info
Histograms
Statistics
Key Properties
Legend
Raster Function Infos
Supported Operations:
Export Image
Identify
Measure
Compute Histograms
Compute Statistics Histograms
Get Samples
Compute Class Statistics
Query Boundary
Compute Pixel Location
Compute Angles
Validate
Project