View In:
ArcGIS JavaScript
ArcGIS Online Map Viewer
ArcGIS Earth
ArcMap
View Footprint In:
ArcGIS Online Map Viewer
Service Description: High Tailwater rasters
Name: SugarlandISWMM_HighTailRasters/Z279_PL17T4_P24H_010Y
Description: High Tailwater rasters
Single Fused Map Cache: false
Extent:
XMin: 3029469
YMin: 1.37802615E7
XMax: 3035910
YMax: 1.37851605E7
Spatial Reference: 102740
(2278)
Initial Extent:
XMin: 3029469
YMin: 1.37802615E7
XMax: 3035910
YMax: 1.37851605E7
Spatial Reference: 102740
(2278)
Full Extent:
XMin: 3029469
YMin: 1.37802615E7
XMax: 3035910
YMax: 1.37851605E7
Spatial Reference: 102740
(2278)
Pixel Size X: 3.0
Pixel Size Y: 3.0
Band Count: 1
Pixel Type: F32
RasterFunction Infos: {"rasterFunctionInfos": [{
"name": "None",
"description": "",
"help": ""
}]}
Mensuration Capabilities: Basic
Has Histograms: true
Has Colormap: false
Has Multi Dimensions : false
Rendering Rule:
Min Scale: 0
Max Scale: 0
Copyright Text:
Service Data Type: esriImageServiceDataTypeGeneric
Min Values: 0.25
Max Values: 5.715995788574219
Mean Values: 1.401719918696826
Standard Deviation Values: 1.337489221208867
Object ID Field:
Fields:
None
Default Mosaic Method: Center
Allowed Mosaic Methods:
SortField:
SortValue: null
Mosaic Operator: First
Default Compression Quality: 75
Default Resampling Method: Bilinear
Max Record Count: null
Max Image Height: 4100
Max Image Width: 15000
Max Download Image Count: null
Max Mosaic Image Count: null
Allow Raster Function: true
Allow Copy: true
Allow Analysis: true
Allow Compute TiePoints: false
Supports Statistics: false
Supports Advanced Queries: false
Use StandardizedQueries: true
Raster Type Infos:
Name: Raster Dataset
Description: Supports all ArcGIS Raster Datasets
Help:
Has Raster Attribute Table: false
Edit Fields Info: null
Ownership Based AccessControl For Rasters: null
Child Resources:
Info
Histograms
Statistics
Key Properties
Legend
Raster Function Infos
Supported Operations:
Export Image
Identify
Measure
Compute Histograms
Compute Statistics Histograms
Get Samples
Compute Class Statistics
Query Boundary
Compute Pixel Location
Compute Angles
Validate
Project