View In:
ArcGIS JavaScript
ArcGIS Online Map Viewer
ArcGIS Earth
ArcMap
View Footprint In:
ArcGIS Online Map Viewer
Service Description: High Tailwater rasters
Name: SugarlandISWMM_HighTailRasters/Z387_PL17T5_P24H_011Y
Description: High Tailwater rasters
Single Fused Map Cache: false
Extent:
XMin: 3029402.994031278
YMin: 1.3768168481724437E7
XMax: 3036821.994031278
YMax: 1.3774063481724437E7
Spatial Reference: 103161
(6588)
Initial Extent:
XMin: 3029402.994031278
YMin: 1.3768168481724437E7
XMax: 3036821.994031278
YMax: 1.3774063481724437E7
Spatial Reference: 103161
(6588)
Full Extent:
XMin: 3029402.994031278
YMin: 1.3768168481724437E7
XMax: 3036821.994031278
YMax: 1.3774063481724437E7
Spatial Reference: 103161
(6588)
Pixel Size X: 3.0
Pixel Size Y: 3.0
Band Count: 1
Pixel Type: F32
RasterFunction Infos: {"rasterFunctionInfos": [{
"name": "None",
"description": "",
"help": ""
}]}
Mensuration Capabilities: Basic
Has Histograms: true
Has Colormap: false
Has Multi Dimensions : false
Rendering Rule:
Min Scale: 0
Max Scale: 0
Copyright Text:
Service Data Type: esriImageServiceDataTypeGeneric
Min Values: 0.25
Max Values: 14.170581817626953
Mean Values: 2.214651148963321
Standard Deviation Values: 3.4551946461756398
Object ID Field:
Fields:
None
Default Mosaic Method: Center
Allowed Mosaic Methods:
SortField:
SortValue: null
Mosaic Operator: First
Default Compression Quality: 75
Default Resampling Method: Bilinear
Max Record Count: null
Max Image Height: 4100
Max Image Width: 15000
Max Download Image Count: null
Max Mosaic Image Count: null
Allow Raster Function: true
Allow Copy: true
Allow Analysis: true
Allow Compute TiePoints: false
Supports Statistics: false
Supports Advanced Queries: false
Use StandardizedQueries: true
Raster Type Infos:
Name: Raster Dataset
Description: Supports all ArcGIS Raster Datasets
Help:
Has Raster Attribute Table: false
Edit Fields Info: null
Ownership Based AccessControl For Rasters: null
Child Resources:
Info
Histograms
Statistics
Key Properties
Legend
Raster Function Infos
Supported Operations:
Export Image
Identify
Measure
Compute Histograms
Compute Statistics Histograms
Get Samples
Compute Class Statistics
Query Boundary
Compute Pixel Location
Compute Angles
Validate
Project