View In:
ArcGIS JavaScript
ArcGIS Online Map Viewer
ArcGIS Earth
ArcMap
View Footprint In:
ArcGIS Online Map Viewer
Service Description: SugarlandISWMM_HighTailRasters/z392_FBLD2A_P24H_010Y
Name: SugarlandISWMM_HighTailRasters/z392_FBLD2A_P24H_010Y
Description:
Single Fused Map Cache: false
Extent:
XMin: 3036462
YMin: 1.3771858506551001E7
XMax: 3044346
YMax: 1.3779256506551001E7
Spatial Reference: 102740
(2278)
Initial Extent:
XMin: 3036462
YMin: 1.3771858506551001E7
XMax: 3044346
YMax: 1.3779256506551001E7
Spatial Reference: 102740
(2278)
Full Extent:
XMin: 3036462
YMin: 1.3771858506551001E7
XMax: 3044346
YMax: 1.3779256506551001E7
Spatial Reference: 102740
(2278)
Pixel Size X: 3.0
Pixel Size Y: 3.0
Band Count: 1
Pixel Type: F32
RasterFunction Infos: {"rasterFunctionInfos": [{
"name": "None",
"description": "",
"help": ""
}]}
Mensuration Capabilities: Basic
Has Histograms: true
Has Colormap: false
Has Multi Dimensions : false
Rendering Rule:
Min Scale: 0
Max Scale: 0
Copyright Text:
Service Data Type: esriImageServiceDataTypeGeneric
Min Values: 0.25
Max Values: 17.583276748657227
Mean Values: 2.120114762434286
Standard Deviation Values: 3.2891941020072544
Object ID Field:
Fields:
None
Default Mosaic Method: Center
Allowed Mosaic Methods:
SortField:
SortValue: null
Mosaic Operator: First
Default Compression Quality: 75
Default Resampling Method: Bilinear
Max Record Count: null
Max Image Height: 4100
Max Image Width: 15000
Max Download Image Count: null
Max Mosaic Image Count: null
Allow Raster Function: true
Allow Copy: true
Allow Analysis: true
Allow Compute TiePoints: false
Supports Statistics: false
Supports Advanced Queries: false
Use StandardizedQueries: true
Raster Type Infos:
Name: Raster Dataset
Description: Supports all ArcGIS Raster Datasets
Help:
Has Raster Attribute Table: false
Edit Fields Info: null
Ownership Based AccessControl For Rasters: null
Child Resources:
Info
Histograms
Statistics
Key Properties
Legend
Raster Function Infos
Supported Operations:
Export Image
Identify
Measure
Compute Histograms
Compute Statistics Histograms
Get Samples
Compute Class Statistics
Query Boundary
Compute Pixel Location
Compute Angles
Validate
Project