View In:
ArcGIS JavaScript
ArcGIS Online Map Viewer
ArcGIS Earth
ArcMap
View Footprint In:
ArcGIS Online Map Viewer
Service Description: WaterResource/Pasco_County_MHHW_Plus_2ft
Name: WaterResource/Pasco_County_MHHW_Plus_2ft
Description:
Single Fused Map Cache: false
Extent:
XMin: 399892.49999999587
YMin: 1395107.5000004803
XMax: 638537.5001263488
YMax: 1506865.0000596517
Spatial Reference: PROJCS["NAD_1983_StatePlane_Florida_West_FIPS_0902_Feet",GEOGCS["GCS_North_American_1983",DATUM["D_North_American_1983",SPHEROID["GRS_1980",6378137.0,298.257222101]],PRIMEM["Greenwich",0.0],UNIT["Degree",0.0174532925199433]],PROJECTION["Transverse_Mercator"],PARAMETER["False_Easting",656166.667],PARAMETER["False_Northing",0.0],PARAMETER["Central_Meridian",-82.0],PARAMETER["Scale_Factor",0.999941177],PARAMETER["Latitude_Of_Origin",24.3333333333333],UNIT["Foot_US",0.3048006096012192]]
Initial Extent:
XMin: 399892.49999999587
YMin: 1395107.5000004803
XMax: 638537.5001263488
YMax: 1506865.0000596517
Spatial Reference: PROJCS["NAD_1983_StatePlane_Florida_West_FIPS_0902_Feet",GEOGCS["GCS_North_American_1983",DATUM["D_North_American_1983",SPHEROID["GRS_1980",6378137.0,298.257222101]],PRIMEM["Greenwich",0.0],UNIT["Degree",0.0174532925199433]],PROJECTION["Transverse_Mercator"],PARAMETER["False_Easting",656166.667],PARAMETER["False_Northing",0.0],PARAMETER["Central_Meridian",-82.0],PARAMETER["Scale_Factor",0.999941177],PARAMETER["Latitude_Of_Origin",24.3333333333333],UNIT["Foot_US",0.3048006096012192]]
Full Extent:
XMin: 399892.49999999587
YMin: 1395107.5000004803
XMax: 638537.5001263488
YMax: 1506865.0000596517
Spatial Reference: PROJCS["NAD_1983_StatePlane_Florida_West_FIPS_0902_Feet",GEOGCS["GCS_North_American_1983",DATUM["D_North_American_1983",SPHEROID["GRS_1980",6378137.0,298.257222101]],PRIMEM["Greenwich",0.0],UNIT["Degree",0.0174532925199433]],PROJECTION["Transverse_Mercator"],PARAMETER["False_Easting",656166.667],PARAMETER["False_Northing",0.0],PARAMETER["Central_Meridian",-82.0],PARAMETER["Scale_Factor",0.999941177],PARAMETER["Latitude_Of_Origin",24.3333333333333],UNIT["Foot_US",0.3048006096012192]]
Pixel Size X: 2.5000000013236496
Pixel Size Y: 2.500000001323655
Band Count: 1
Pixel Type: F32
RasterFunction Infos: {"rasterFunctionInfos": [{
"name": "None",
"description": "",
"help": ""
}]}
Mensuration Capabilities: Basic
Has Histograms: true
Has Colormap: false
Has Multi Dimensions : false
Rendering Rule:
Min Scale: 0
Max Scale: 0
Copyright Text:
Service Data Type: esriImageServiceDataTypeGeneric
Min Values: 1.1920928955078125E-7
Max Values: 7.4911394119262695
Mean Values: 2.002424848783654
Standard Deviation Values: 1.2000815164309178
Object ID Field:
Fields:
None
Default Mosaic Method: Center
Allowed Mosaic Methods:
SortField:
SortValue: null
Mosaic Operator: First
Default Compression Quality: 75
Default Resampling Method: Bilinear
Max Record Count: null
Max Image Height: 4100
Max Image Width: 15000
Max Download Image Count: null
Max Mosaic Image Count: null
Allow Raster Function: true
Allow Copy: true
Allow Analysis: true
Allow Compute TiePoints: false
Supports Statistics: false
Supports Advanced Queries: false
Use StandardizedQueries: true
Raster Type Infos:
Name: Raster Dataset
Description: Supports all ArcGIS Raster Datasets
Help:
Has Raster Attribute Table: false
Edit Fields Info: null
Ownership Based AccessControl For Rasters: null
Child Resources:
Info
Histograms
Statistics
Key Properties
Legend
Raster Function Infos
Supported Operations:
Export Image
Identify
Measure
Compute Histograms
Compute Statistics Histograms
Get Samples
Compute Class Statistics
Query Boundary
Compute Pixel Location
Compute Angles
Validate
Project