View In:
ArcGIS JavaScript
ArcGIS Online Map Viewer
ArcGIS Earth
ArcMap
View Footprint In:
ArcGIS Online Map Viewer
Service Description: WaterResource/Pasco_County_SWEL_100Yr_2070_Int_High
Name: WaterResource/Pasco_County_SWEL_100Yr_2070_Int_High
Description:
Single Fused Map Cache: false
Extent:
XMin: 399892.49999998923
YMin: 1394197.4999999981
XMax: 640072.4999999892
YMax: 1510857.4999999981
Spatial Reference: PROJCS["NAD_1983_StatePlane_Florida_West_FIPS_0902_Feet",GEOGCS["GCS_North_American_1983",DATUM["D_North_American_1983",SPHEROID["GRS_1980",6378137.0,298.257222101]],PRIMEM["Greenwich",0.0],UNIT["Degree",0.0174532925199433]],PROJECTION["Transverse_Mercator"],PARAMETER["False_Easting",656166.667],PARAMETER["False_Northing",0.0],PARAMETER["Central_Meridian",-82.0],PARAMETER["Scale_Factor",0.999941177],PARAMETER["Latitude_Of_Origin",24.3333333333333],UNIT["Foot_US",0.3048006096012192]]
Initial Extent:
XMin: 399892.49999998923
YMin: 1394197.4999999981
XMax: 640072.4999999892
YMax: 1510857.4999999981
Spatial Reference: PROJCS["NAD_1983_StatePlane_Florida_West_FIPS_0902_Feet",GEOGCS["GCS_North_American_1983",DATUM["D_North_American_1983",SPHEROID["GRS_1980",6378137.0,298.257222101]],PRIMEM["Greenwich",0.0],UNIT["Degree",0.0174532925199433]],PROJECTION["Transverse_Mercator"],PARAMETER["False_Easting",656166.667],PARAMETER["False_Northing",0.0],PARAMETER["Central_Meridian",-82.0],PARAMETER["Scale_Factor",0.999941177],PARAMETER["Latitude_Of_Origin",24.3333333333333],UNIT["Foot_US",0.3048006096012192]]
Full Extent:
XMin: 399892.49999998923
YMin: 1394197.4999999981
XMax: 640072.4999999892
YMax: 1510857.4999999981
Spatial Reference: PROJCS["NAD_1983_StatePlane_Florida_West_FIPS_0902_Feet",GEOGCS["GCS_North_American_1983",DATUM["D_North_American_1983",SPHEROID["GRS_1980",6378137.0,298.257222101]],PRIMEM["Greenwich",0.0],UNIT["Degree",0.0174532925199433]],PROJECTION["Transverse_Mercator"],PARAMETER["False_Easting",656166.667],PARAMETER["False_Northing",0.0],PARAMETER["Central_Meridian",-82.0],PARAMETER["Scale_Factor",0.999941177],PARAMETER["Latitude_Of_Origin",24.3333333333333],UNIT["Foot_US",0.3048006096012192]]
Pixel Size X: 9.999999999999998
Pixel Size Y: 10.0
Band Count: 1
Pixel Type: F32
RasterFunction Infos: {"rasterFunctionInfos": [{
"name": "None",
"description": "",
"help": ""
}]}
Mensuration Capabilities: Basic
Has Histograms: true
Has Colormap: false
Has Multi Dimensions : false
Rendering Rule:
Min Scale: 0
Max Scale: 0
Copyright Text:
Service Data Type: esriImageServiceDataTypeGeneric
Min Values: 9.5367431640625E-7
Max Values: 17.964527130126953
Mean Values: 9.507094553776774
Standard Deviation Values: 5.270528047498861
Object ID Field:
Fields:
None
Default Mosaic Method: Center
Allowed Mosaic Methods:
SortField:
SortValue: null
Mosaic Operator: First
Default Compression Quality: 75
Default Resampling Method: Bilinear
Max Record Count: null
Max Image Height: 4100
Max Image Width: 15000
Max Download Image Count: null
Max Mosaic Image Count: null
Allow Raster Function: true
Allow Copy: true
Allow Analysis: true
Allow Compute TiePoints: false
Supports Statistics: false
Supports Advanced Queries: false
Use StandardizedQueries: true
Raster Type Infos:
Name: Raster Dataset
Description: Supports all ArcGIS Raster Datasets
Help:
Has Raster Attribute Table: false
Edit Fields Info: null
Ownership Based AccessControl For Rasters: null
Child Resources:
Info
Histograms
Statistics
Key Properties
Legend
Raster Function Infos
Supported Operations:
Export Image
Identify
Measure
Compute Histograms
Compute Statistics Histograms
Get Samples
Compute Class Statistics
Query Boundary
Compute Pixel Location
Compute Angles
Validate
Project