View In:
ArcGIS JavaScript
ArcGIS Online Map Viewer
ArcGIS Earth
ArcMap
View Footprint In:
ArcGIS Online Map Viewer
Service Description: GatewayRoyalty/Plat_Map2
Name: GatewayRoyalty/Plat_Map2
Description:
Single Fused Map Cache: true
Tile Info:
- Height: 256
- Width: 256
- DPI: 96
-
Levels of Detail: 12
- Format: PNG
- Compression Quality: 0.0
- LERC Error: NaN
- Origin: X: -1.196707E8
Y: 1.4766550000000003E8
- Spatial Reference: 102723
(3735)
Storage Info:
- Storage Format: esriMapCacheStorageModeCompactV2
- Packet Size: 128
Extent:
XMin: 2045835.0076155283
YMin: 564156.4390012322
XMax: 2518273.2553942944
YMax: 1091602.7480572087
Spatial Reference: 102723
(3735)
Initial Extent:
XMin: 2045835.0076155283
YMin: 564156.4390012322
XMax: 2518273.2553942944
YMax: 1091602.7480572087
Spatial Reference: 102723
(3735)
Full Extent:
XMin: 2045835.0076155283
YMin: 564156.4390012322
XMax: 2518273.2553942944
YMax: 1091602.7480572087
Spatial Reference: 102723
(3735)
Pixel Size X: 13.889115030979452
Pixel Size Y: 13.890401060148967
Band Count: 4
Pixel Type: U8
RasterFunction Infos: {"rasterFunctionInfos": [{
"name": "None",
"description": "",
"help": ""
}]}
Mensuration Capabilities: Basic
Has Histograms: true
Has Colormap: false
Has Multi Dimensions : false
Rendering Rule:
Min Scale: 0
Max Scale: 0
Min LOD: 0
Max LOD: 11
Copyright Text:
Service Data Type: esriImageServiceDataTypeGeneric
Min Values: 0, 0, 0, 0
Max Values: 255, 255, 255, 255
Mean Values: 222.09429397527714, 218.53118085858117, 213.2021411339952, 252.20071901176186
Standard Deviation Values: 73.40689191768922, 78.01401792008163, 82.53934456205421, 21.89886086092462
Object ID Field:
Fields:
None
Default Mosaic Method: Center
Allowed Mosaic Methods:
SortField:
SortValue: null
Mosaic Operator: First
Default Compression Quality: 75
Default Resampling Method: Bilinear
Max Record Count: null
Max Image Height: 4100
Max Image Width: 15000
Max Download Image Count: null
Max Mosaic Image Count: null
Allow Raster Function: true
Allow Copy: true
Allow Analysis: true
Allow Compute TiePoints: false
Supports Statistics: false
Supports Advanced Queries: false
Use StandardizedQueries: true
Raster Type Infos:
Name: Raster Dataset
Description: Supports all ArcGIS Raster Datasets
Help:
Has Raster Attribute Table: false
Edit Fields Info: null
Ownership Based AccessControl For Rasters: null
Child Resources:
Info
Histograms
Statistics
Key Properties
Legend
Raster Function Infos
Supported Operations:
Export Image
Identify
Measure
Compute Histograms
Compute Statistics Histograms
Get Samples
Compute Class Statistics
Query Boundary
Compute Pixel Location
Compute Angles
Validate
Project