View In:
ArcGIS JavaScript
ArcGIS Online Map Viewer
ArcGIS Earth
ArcMap
View Footprint In:
ArcGIS Online Map Viewer
Service Description: RobinsonBayou/RobinsonBayou_47324_GISDBO_InnunDepth100_24
Name: RobinsonBayou/RobinsonBayou_47324_GISDBO_InnunDepth100_24
Description:
Single Fused Map Cache: false
Extent:
XMin: 1589497.4229112724
YMin: 428668.5602507804
XMax: 1607979.9229112724
YMax: 442816.0602507804
Spatial Reference: 103024
(6441)
Initial Extent:
XMin: 1589497.4229112724
YMin: 428668.5602507804
XMax: 1607979.9229112724
YMax: 442816.0602507804
Spatial Reference: 103024
(6441)
Full Extent:
XMin: 1589497.4229112724
YMin: 428668.5602507804
XMax: 1607979.9229112724
YMax: 442816.0602507804
Spatial Reference: 103024
(6441)
Pixel Size X: 2.5
Pixel Size Y: 2.5
Band Count: 1
Pixel Type: F32
RasterFunction Infos: {"rasterFunctionInfos": [{
"name": "None",
"description": "",
"help": ""
}]}
Mensuration Capabilities: Basic
Has Histograms: true
Has Colormap: false
Has Multi Dimensions : false
Rendering Rule:
Min Scale: 0
Max Scale: 0
Copyright Text:
Service Data Type: esriImageServiceDataTypeGeneric
Min Values: 0
Max Values: 10.363149642944336
Mean Values: 1.7553069779534705
Standard Deviation Values: 1.4411195819661617
Object ID Field:
Fields:
None
Default Mosaic Method: Center
Allowed Mosaic Methods:
SortField:
SortValue: null
Mosaic Operator: First
Default Compression Quality: 75
Default Resampling Method: Bilinear
Max Record Count: null
Max Image Height: 4100
Max Image Width: 15000
Max Download Image Count: null
Max Mosaic Image Count: null
Allow Raster Function: true
Allow Copy: true
Allow Analysis: true
Allow Compute TiePoints: false
Supports Statistics: false
Supports Advanced Queries: false
Use StandardizedQueries: true
Raster Type Infos:
Name: Raster Dataset
Description: Supports all ArcGIS Raster Datasets
Help:
Has Raster Attribute Table: false
Edit Fields Info: null
Ownership Based AccessControl For Rasters: null
Child Resources:
Info
Histograms
Statistics
Key Properties
Legend
Raster Function Infos
Supported Operations:
Export Image
Identify
Measure
Compute Histograms
Compute Statistics Histograms
Get Samples
Compute Class Statistics
Query Boundary
Compute Pixel Location
Compute Angles
Validate
Project