View In:
ArcGIS JavaScript
ArcGIS Online Map Viewer
ArcGIS Earth
ArcMap
View Footprint In:
ArcGIS Online Map Viewer
Service Description: UBCWCID/GISDBO_Depth_Velocity_Dam_1
Name: UBCWCID/GISDBO_Depth_Velocity_Dam_1
Description:
Single Fused Map Cache: false
Extent:
XMin: 3062612.8836695747
YMin: 1.0146562801907152E7
XMax: 3195837.6828362294
YMax: 1.0194371105240481E7
Spatial Reference: PROJCS["NAD_1983_Texas_Central_ftUS",GEOGCS["GCS_North_American_1983",DATUM["D_North_American_1983",SPHEROID["GRS_1980",6378137.0,298.257222101]],PRIMEM["Greenwich",0.0],UNIT["Degree",0.0174532925199433]],PROJECTION["Lambert_Conformal_Conic"],PARAMETER["False_Easting",2296583.33333333],PARAMETER["False_Northing",9842500.0],PARAMETER["Central_Meridian",-100.333333333333],PARAMETER["Standard_Parallel_1",30.1166666666667],PARAMETER["Standard_Parallel_2",31.8833333333333],PARAMETER["Latitude_Of_Origin",29.6666666666667],UNIT["Foot_US",0.3048006096012192]]
Initial Extent:
XMin: 3062612.8836695747
YMin: 1.0146562801907152E7
XMax: 3195837.6828362294
YMax: 1.0194371105240481E7
Spatial Reference: PROJCS["NAD_1983_Texas_Central_ftUS",GEOGCS["GCS_North_American_1983",DATUM["D_North_American_1983",SPHEROID["GRS_1980",6378137.0,298.257222101]],PRIMEM["Greenwich",0.0],UNIT["Degree",0.0174532925199433]],PROJECTION["Lambert_Conformal_Conic"],PARAMETER["False_Easting",2296583.33333333],PARAMETER["False_Northing",9842500.0],PARAMETER["Central_Meridian",-100.333333333333],PARAMETER["Standard_Parallel_1",30.1166666666667],PARAMETER["Standard_Parallel_2",31.8833333333333],PARAMETER["Latitude_Of_Origin",29.6666666666667],UNIT["Foot_US",0.3048006096012192]]
Full Extent:
XMin: 3062612.8836695747
YMin: 1.0146562801907152E7
XMax: 3195837.6828362294
YMax: 1.0194371105240481E7
Spatial Reference: PROJCS["NAD_1983_Texas_Central_ftUS",GEOGCS["GCS_North_American_1983",DATUM["D_North_American_1983",SPHEROID["GRS_1980",6378137.0,298.257222101]],PRIMEM["Greenwich",0.0],UNIT["Degree",0.0174532925199433]],PROJECTION["Lambert_Conformal_Conic"],PARAMETER["False_Easting",2296583.33333333],PARAMETER["False_Northing",9842500.0],PARAMETER["Central_Meridian",-100.333333333333],PARAMETER["Standard_Parallel_1",30.1166666666667],PARAMETER["Standard_Parallel_2",31.8833333333333],PARAMETER["Latitude_Of_Origin",29.6666666666667],UNIT["Foot_US",0.3048006096012192]]
Pixel Size X: 3.280833333333039
Pixel Size Y: 3.2808333333330384
Band Count: 1
Pixel Type: F32
RasterFunction Infos: {"rasterFunctionInfos": [{
"name": "None",
"description": "",
"help": ""
}]}
Mensuration Capabilities: Basic
Has Histograms: true
Has Colormap: false
Has Multi Dimensions : false
Rendering Rule:
Min Scale: 0
Max Scale: 0
Copyright Text:
Service Data Type: esriImageServiceDataTypeGeneric
Min Values: 0
Max Values: 240.1796112060547
Mean Values: 26.989491814602097
Standard Deviation Values: 36.13549800849979
Object ID Field:
Fields:
None
Default Mosaic Method: Center
Allowed Mosaic Methods:
SortField:
SortValue: null
Mosaic Operator: First
Default Compression Quality: 75
Default Resampling Method: Bilinear
Max Record Count: null
Max Image Height: 4100
Max Image Width: 15000
Max Download Image Count: null
Max Mosaic Image Count: null
Allow Raster Function: true
Allow Copy: true
Allow Analysis: true
Allow Compute TiePoints: false
Supports Statistics: false
Supports Advanced Queries: false
Use StandardizedQueries: true
Raster Type Infos:
Name: Raster Dataset
Description: Supports all ArcGIS Raster Datasets
Help:
Has Raster Attribute Table: false
Edit Fields Info: null
Ownership Based AccessControl For Rasters: null
Child Resources:
Info
Histograms
Statistics
Key Properties
Legend
Raster Function Infos
Supported Operations:
Export Image
Identify
Measure
Compute Histograms
Compute Statistics Histograms
Get Samples
Compute Class Statistics
Query Boundary
Compute Pixel Location
Compute Angles
Validate
Project